{
 "version": 1.0,
 "tileBundlesPath": "./tile",
 "storageInfo": {
  "packetSize": 128,
  "storageFormat": "esriMapCacheStorageModeCompactV2"
 },
 "tileImageInfo": {
  "format": "MIXED",
  "compressionQuality": 75,
  "bandCount": 1,
  "lercError": 0
 },
 "tileInfo": {
  "spatialReference": {
   "wkid": 102100,
   "latestWkid": 3857
  },
  "origin": {
   "x": -2.0037508342787E7,
   "y": 2.0037508342787E7
  },
  "rows": 256,
  "cols": 256,
  "dpi": 96,
  "lods": [
   {
    "level": 0,
    "resolution": 156543.033928,
    "scale": 5.91657527591555E8
   },
   {
    "level": 1,
    "resolution": 78271.5169639999,
    "scale": 2.95828763795777E8
   },
   {
    "level": 2,
    "resolution": 39135.7584820001,
    "scale": 1.47914381897889E8
   },
   {
    "level": 3,
    "resolution": 19567.8792409999,
    "scale": 7.3957190948944E7
   },
   {
    "level": 4,
    "resolution": 9783.93962049996,
    "scale": 3.6978595474472E7
   },
   {
    "level": 5,
    "resolution": 4891.96981024998,
    "scale": 1.8489297737236E7
   },
   {
    "level": 6,
    "resolution": 2445.98490512499,
    "scale": 9244648.868618
   },
   {
    "level": 7,
    "resolution": 1222.99245256249,
    "scale": 4622324.434309
   },
   {
    "level": 8,
    "resolution": 611.49622628138,
    "scale": 2311162.217155
   },
   {
    "level": 9,
    "resolution": 305.748113140558,
    "scale": 1155581.108577
   },
   {
    "level": 10,
    "resolution": 152.874056570411,
    "scale": 577790.554289
   },
   {
    "level": 11,
    "resolution": 76.4370282850732,
    "scale": 288895.277144
   },
   {
    "level": 12,
    "resolution": 38.2185141425366,
    "scale": 144447.638572
   },
   {
    "level": 13,
    "resolution": 19.1092570712683,
    "scale": 72223.819286
   },
   {
    "level": 14,
    "resolution": 9.55462853563415,
    "scale": 36111.909643
   },
   {
    "level": 15,
    "resolution": 4.77731426794937,
    "scale": 18055.954822
   },
   {
    "level": 16,
    "resolution": 2.38865713397468,
    "scale": 9027.977411
   },
   {
    "level": 17,
    "resolution": 1.19432856685505,
    "scale": 4513.988705
   },
   {
    "level": 18,
    "resolution": 0.597164283559817,
    "scale": 2256.994353
   },
   {
    "level": 19,
    "resolution": 0.298582141647617,
    "scale": 1128.497176
   },
   {
    "level": 20,
    "resolution": 0.14929107082380833,
    "scale": 564.248588
   },
   {
    "level": 21,
    "resolution": 0.07464553541190416,
    "scale": 282.124294
   },
   {
    "level": 22,
    "resolution": 0.03732276770595208,
    "scale": 141.062147
   },
   {
    "level": 23,
    "resolution": 0.01866138385297604,
    "scale": 70.5310735
   }
  ],
  "format": "MIXED",
  "compressionQuality": 75,
  "bandCount": 1,
  "lercError": 0,
  "storageFormat": "esriMapCacheStorageModeCompactV2",
  "packetSize": 128
 },
 "name": "Drawdown_Drift_2015__meters",
 "serviceDescription": "",
 "spatialReference": {
  "wkid": 102100,
  "latestWkid": 3857,
  "xyTolerance": 0.001,
  "zTolerance": 0.001,
  "mTolerance": 0.001,
  "falseX": -20037700,
  "falseY": -30241100,
  "xyUnits": 10000,
  "falseZ": -100000,
  "zUnits": 10000,
  "falseM": -100000,
  "mUnits": 10000
 },
 "units": "esriMeters",
 "minLOD": 10,
 "maxLOD": 15,
 "resampling": true,
 "layers": [
  {
   "id": 0,
   "name": "Drawdown Drift 2015 (meters)",
   "parentLayerId": -1,
   "defaultVisibility": true,
   "subLayerIds": null,
   "minScale": 0,
   "maxScale": 0,
   "type": "Raster Layer",
   "supportsDynamicLegends": true,
   "legend": [
    {
     "label": "-2.2 - -2",
     "imageData": "iVBORw0KGgoAAAANSUhEUgAAABQAAAAUCAYAAACNiR0NAAAACXBIWXMAAA7EAAAOxAGVKw4bAAAAMUlEQVQ4jWNhoDJgoZmBLwRE/lNikMSHN4woBlILjBo4auCogaMG0tlAWHlGNQOpBQBa5gZGGEpM6QAAAABJRU5ErkJggg==",
     "contentType": "image/png",
     "groupId": "0",
     "height": 20,
     "width": 20,
     "layerId": 0,
     "layerName": "Drawdown Drift 2015 (meters)"
    },
    {
     "label": "-1.9 - -1.7",
     "imageData": "iVBORw0KGgoAAAANSUhEUgAAABQAAAAUCAYAAACNiR0NAAAACXBIWXMAAA7EAAAOxAGVKw4bAAAAMUlEQVQ4jWNhoDJgoZmBH+yk/lNikMChZ4woBlILjBo4auCogaMG0tlAWHlGNQOpBQBGRAYK6qYe1wAAAABJRU5ErkJggg==",
     "contentType": "image/png",
     "groupId": "0",
     "height": 20,
     "width": 20,
     "layerId": 0,
     "layerName": "Drawdown Drift 2015 (meters)"
    },
    {
     "label": "-1.6 - -1.6",
     "imageData": "iVBORw0KGgoAAAANSUhEUgAAABQAAAAUCAYAAACNiR0NAAAACXBIWXMAAA7EAAAOxAGVKw4bAAAAMUlEQVQ4jWNhoDJgoZmBXxNU/1NiEPeC24woBlILjBo4auCogaMG0tlAWHlGNQOpBQA1GgXYl+IFuQAAAABJRU5ErkJggg==",
     "contentType": "image/png",
     "groupId": "0",
     "height": 20,
     "width": 20,
     "layerId": 0,
     "layerName": "Drawdown Drift 2015 (meters)"
    },
    {
     "label": "-1.5 - -1.4",
     "imageData": "iVBORw0KGgoAAAANSUhEUgAAABQAAAAUCAYAAACNiR0NAAAACXBIWXMAAA7EAAAOxAGVKw4bAAAAMUlEQVQ4jWNhoDJgoZmB36t0/1NiEGfbZUYUA6kFRg0cNXDUwFED6WwgrDyjmoHUAgAowAW0prgK+QAAAABJRU5ErkJggg==",
     "contentType": "image/png",
     "groupId": "0",
     "height": 20,
     "width": 20,
     "layerId": 0,
     "layerName": "Drawdown Drift 2015 (meters)"
    },
    {
     "label": "-1.3 - -1.3",
     "imageData": "iVBORw0KGgoAAAANSUhEUgAAABQAAAAUCAYAAACNiR0NAAAACXBIWXMAAA7EAAAOxAGVKw4bAAAAMUlEQVQ4jWNhoDJgoZmBv6ZZ/qfEILas44woBlILjBo4auCogaMG0tlAWHlGNQOpBQAaAQWJVyvYrwAAAABJRU5ErkJggg==",
     "contentType": "image/png",
     "groupId": "0",
     "height": 20,
     "width": 20,
     "layerId": 0,
     "layerName": "Drawdown Drift 2015 (meters)"
    },
    {
     "label": "-1.2 - -1.1",
     "imageData": "iVBORw0KGgoAAAANSUhEUgAAABQAAAAUCAYAAACNiR0NAAAACXBIWXMAAA7EAAAOxAGVKw4bAAAAMElEQVQ4jWNhoDJgoZmBfza7/KfIIN89jCgGUguMGjhq4KiBowbS2UBYeUY1A6kFAAuaBV8CfFAHAAAAAElFTkSuQmCC",
     "contentType": "image/png",
     "groupId": "0",
     "height": 20,
     "width": 20,
     "layerId": 0,
     "layerName": "Drawdown Drift 2015 (meters)"
    },
    {
     "label": "-1 - -1",
     "imageData": "iVBORw0KGgoAAAANSUhEUgAAABQAAAAUCAYAAACNiR0NAAAACXBIWXMAAA7EAAAOxAGVKw4bAAAAMElEQVQ4jWNhoDJgoZmBf84H/qfIIMP1jCgGUguMGjhq4KiBowbS2UBYeUY1A6kFAP2ABTYq5jRvAAAAAElFTkSuQmCC",
     "contentType": "image/png",
     "groupId": "0",
     "height": 20,
     "width": 20,
     "layerId": 0,
     "layerName": "Drawdown Drift 2015 (meters)"
    },
    {
     "label": "-0.9 - -0.8",
     "imageData": "iVBORw0KGgoAAAANSUhEUgAAABQAAAAUCAYAAACNiR0NAAAACXBIWXMAAA7EAAAOxAGVKw4bAAAAMUlEQVQ4jWNhoDJgoZmBv17F/KfEIDaxJYwoBlILjBo4auCogaMG0tlAWHlGNQOpBQDxLQUSxCsLtQAAAABJRU5ErkJggg==",
     "contentType": "image/png",
     "groupId": "0",
     "height": 20,
     "width": 20,
     "layerId": 0,
     "layerName": "Drawdown Drift 2015 (meters)"
    },
    {
     "label": "-0.7 - -0.6",
     "imageData": "iVBORw0KGgoAAAANSUhEUgAAABQAAAAUCAYAAACNiR0NAAAACXBIWXMAAA7EAAAOxAGVKw4bAAAAMUlEQVQ4jWNhoDJgoZmB7z7l/qfEICG+yYwoBlILjBo4auCogaMG0tlAWHlGNQOpBQDs0gUFY/BHUwAAAABJRU5ErkJggg==",
     "contentType": "image/png",
     "groupId": "0",
     "height": 20,
     "width": 20,
     "layerId": 0,
     "layerName": "Drawdown Drift 2015 (meters)"
    },
    {
     "label": "-0.5 - -0.5",
     "imageData": "iVBORw0KGgoAAAANSUhEUgAAABQAAAAUCAYAAACNiR0NAAAACXBIWXMAAA7EAAAOxAGVKw4bAAAAMUlEQVQ4jWNhoDJgoZmB1x/X/qfEIE3ZZkYUA6kFRg0cNXDUwFED6WwgrDyjmoHUAgD0iQUbdLAiDgAAAABJRU5ErkJggg==",
     "contentType": "image/png",
     "groupId": "0",
     "height": 20,
     "width": 20,
     "layerId": 0,
     "layerName": "Drawdown Drift 2015 (meters)"
    },
    {
     "label": "-0.4 - -0.3",
     "imageData": "iVBORw0KGgoAAAANSUhEUgAAABQAAAAUCAYAAACNiR0NAAAACXBIWXMAAA7EAAAOxAGVKw4bAAAAMUlEQVQ4jWNhoDJgoZmB+690/afEIEedMkYUA6kFRg0cNXDUwFED6WwgrDyjmoHUAgD9ngU10IOfhwAAAABJRU5ErkJggg==",
     "contentType": "image/png",
     "groupId": "0",
     "height": 20,
     "width": 20,
     "layerId": 0,
     "layerName": "Drawdown Drift 2015 (meters)"
    },
    {
     "label": "-0.2 - -0.2",
     "imageData": "iVBORw0KGgoAAAANSUhEUgAAABQAAAAUCAYAAACNiR0NAAAACXBIWXMAAA7EAAAOxAGVKw4bAAAAMUlEQVQ4jWNhoDJgoZmBy49P/0+JQZGWmYwoBlILjBo4auCogaMG0tlAWHlGNQOpBQAGEgVNRk6FoAAAAABJRU5ErkJggg==",
     "contentType": "image/png",
     "groupId": "0",
     "height": 20,
     "width": 20,
     "layerId": 0,
     "layerName": "Drawdown Drift 2015 (meters)"
    },
    {
     "label": "-0.1 - -0.1",
     "imageData": "iVBORw0KGgoAAAANSUhEUgAAABQAAAAUCAYAAACNiR0NAAAACXBIWXMAAA7EAAAOxAGVKw4bAAAAMUlEQVQ4jWNhoDJgoZmBPTuW/KfEoBKPGEYUA6kFRg0cNXDUwFED6WwgrDyjmoHUAgAQMgVq1f15ZAAAAABJRU5ErkJggg==",
     "contentType": "image/png",
     "groupId": "0",
     "height": 20,
     "width": 20,
     "layerId": 0,
     "layerName": "Drawdown Drift 2015 (meters)"
    },
    {
     "label": "0 - 0.1",
     "imageData": "iVBORw0KGgoAAAANSUhEUgAAABQAAAAUCAYAAACNiR0NAAAACXBIWXMAAA7EAAAOxAGVKw4bAAAAMUlEQVQ4jWNhoDJgoZmBhas3/KfEoP7QAEYUA6kFRg0cNXDUwFED6WwgrDyjmoHUAgAZ+QWGrXtxvwAAAABJRU5ErkJggg==",
     "contentType": "image/png",
     "groupId": "0",
     "height": 20,
     "width": 20,
     "layerId": 0,
     "layerName": "Drawdown Drift 2015 (meters)"
    },
    {
     "label": "0.2 - 0.3",
     "imageData": "iVBORw0KGgoAAAANSUhEUgAAABQAAAAUCAYAAACNiR0NAAAACXBIWXMAAA7EAAAOxAGVKw4bAAAAMUlEQVQ4jWNhoDJgoZmBgfP2/qfEoPVJzowoBlILjBo4auCogaMG0tlAWHlGNQOpBQAlJgWm+M/CMQAAAABJRU5ErkJggg==",
     "contentType": "image/png",
     "groupId": "0",
     "height": 20,
     "width": 20,
     "layerId": 0,
     "layerName": "Drawdown Drift 2015 (meters)"
    },
    {
     "label": "0.4 - 0.9",
     "imageData": "iVBORw0KGgoAAAANSUhEUgAAABQAAAAUCAYAAACNiR0NAAAACXBIWXMAAA7EAAAOxAGVKw4bAAAAMUlEQVQ4jWNhoDJgoZmBGpOO/6fEoBt5lowoBlILjBo4auCogaMG0tlAWHlGNQOpBQA0IQXRZcYiXQAAAABJRU5ErkJggg==",
     "contentType": "image/png",
     "groupId": "0",
     "height": 20,
     "width": 20,
     "layerId": 0,
     "layerName": "Drawdown Drift 2015 (meters)"
    }
   ],
   "layerId": 0,
   "layerName": "Drawdown Drift 2015 (meters)",
   "serviceItemId": "abe82968a027402f9343b7583d4cda9c"
  }
 ],
 "initialExtent": {
  "xmin": -9583924.284173887,
  "ymin": 5278038.363282838,
  "xmax": -9559640.615693256,
  "ymax": 5332660.341447045,
  "spatialReference": {
   "wkid": 102100,
   "latestWkid": 3857,
   "xyTolerance": 0.001,
   "zTolerance": 0.001,
   "mTolerance": 0.001,
   "falseX": -20037700,
   "falseY": -30241100,
   "xyUnits": 10000,
   "falseZ": -100000,
   "zUnits": 10000,
   "falseM": -100000,
   "mUnits": 10000
  }
 },
 "fullExtent": {
  "xmin": -9603786.710955115,
  "ymin": 5276469.448974952,
  "xmax": -9549030.481320329,
  "ymax": 5343493.4677628875,
  "spatialReference": {
   "wkid": 102100,
   "latestWkid": 3857,
   "xyTolerance": 0.001,
   "zTolerance": 0.001,
   "mTolerance": 0.001,
   "falseX": -20037700,
   "falseY": -30241100,
   "xyUnits": 10000,
   "falseZ": -100000,
   "zUnits": 10000,
   "falseM": -100000,
   "mUnits": 10000
  }
 },
 "minScale": 0,
 "maxScale": 0,
 "exportTilesAllowed": false,
 "maxExportTilesCount": 0,
 "currentVersion": 11.5,
 "mapName": "Drawdown_Drift_2015__meters",
 "singleFusedMapCache": true,
 "type": "MapServer",
 "supportedExtensions": "",
 "capabilities": "TilesOnly,Tilemap",
 "serviceItemId": "abe82968a027402f9343b7583d4cda9c"
}
